BEGIN:VCALENDAR
PRODID:-//kirchenweb.ch gmbh//veranstaltungsausgabe v2.0//DE
VERSION:2.0
METHOD:PUBLISH
BEGIN:VEVENT
DTSTART:20250215T120500Z
DTEND:20250215T153500Z
LOCATION:Mesmerhuus\, Kloster 14\, 8224 Löhningen
TRANSP:OPAQUE
SEQUENCE:0
UID:179814-veranstaltung@ref-sh.ch
DTSTAMP:20250602T102633Z
DESCRIPTION:Bald ist wieder Ameisli! Genauere Infos zum Programm folgen.\n
 \nMitnehmen:\n-Wetterentsprechende Kleidung\n-gefüllte Trinkflasche
 \n-Gute Laune\n\nStart:\nGächlingen: 13.00 Buhaltestelle Dorf\, Richtung
  Siblingen\nLöhningen: 13.20 Brunnen Bushaltestelle Dorf
 \nOberhallau/Guntmadingen: Nach Absprache\n\nEnde:\nGächlingen: 16.48
  Bushaltestelle Dorf\, Richtung Neunkirch\nLöhningen: 16.35 Brunnen
  Bushaltestelle Dorf\nOberhallau/Guntmadingen: Nach Absprache\n\nKontakt:
  Anja Ryser\, anja.ryser@ref-sh.ch\n\n\nWeitere Infos:
  https://www.ref-sh.ch/veranstaltung/179814
SUMMARY:Ameisli in Löhningen
PRIORITY:5
X-MICROSOFT-CDO-IMPORTANCE:1
CLASS:PUBLIC
END:VEVENT
END:VCALENDAR
