BEGIN:VCALENDAR
PRODID:-//kirchenweb.ch gmbh//veranstaltungsausgabe v2.0//DE
VERSION:2.0
METHOD:PUBLISH
BEGIN:VEVENT
DTSTART:20250109T143000Z
DTEND:20250109T153000Z
LOCATION:Huus Emmersberg\, Bürgerstrasse 23\, 8200 Schaffhausen
TRANSP:OPAQUE
SEQUENCE:0
UID:179782-veranstaltung@ref-sh.ch
DTSTAMP:20250123T132054Z
DESCRIPTION:Gemeinsam feiern wir Gottesdienst\, hören auf Gottes Wort\,
  singen vertraute Lieder und lauschen  schöner Klaviermusik.\n\nKontakt:
  Pfarrerin Verena Hubmann\n\nWeitere Infos:
  https://www.ref-sh.ch/veranstaltung/179782
SUMMARY:Gottesdienst im Huus Emmersberg
PRIORITY:5
X-MICROSOFT-CDO-IMPORTANCE:1
CLASS:PUBLIC
END:VEVENT
END:VCALENDAR
