BEGIN:VCALENDAR
PRODID:-//kirchenweb.ch gmbh//veranstaltungsausgabe v2.0//DE
VERSION:2.0
METHOD:PUBLISH
BEGIN:VEVENT
DTSTART:20250330T080000Z
DTEND:20250330T090000Z
LOCATION:Radio Munot\, \,
TRANSP:OPAQUE
SEQUENCE:0
UID:179341-veranstaltung@ref-sh.ch
DTSTAMP:20250326T184356Z
DESCRIPTION:Themen Unterwegs:\n> Kirche auf Französisch in Schaffhausen
  (Jean Eric Hiltbrunner)\n> Konzernverantwortung - ein Thema für die
  Kirche? (Ruedi Waldvogel)\n> Kinder-Musical in Neuhausen (Elisabeth
  Spörndli)\n\nAusstrahlung: 10.00-11.00 Uhr bei Radio Munot\nWiederholung
  23.00-24.00 Uhr bei Radio Munot sowie 03.00 bis 04.00 Uhr bei Radio Munot
 \n\nDas kirchliche Magazin Unterwegs bringt jeweils am letzten Sonntag des
  Monats drei Berichte zum kirchlichen Leben im Kanton Schaffhausen\,
  gestaltet von Doris Brodbeck und Stefan Bruderer. Zudem gibt es an
  Werktagen von Montag bis Freitag jeweils um 6.50 Uhr einen Gedanken zum
  Tag\, ebenfalls auf Radio Munot. Beides kann im Internet nachgehört
  werden.\n\nVergangene kirchliche Radio/TV-Sendungen nachhören über
  https://www.ref-sh.ch/podcasts\n"Unterwegs" jeweils am letzten Sonntag im
  Monat um 10 Uhr und um 23 Uhr bei Radio Munot (91.5 mHz\, 100.2 mHz oder
  107.5 mHz) mit Natalie De Lisa und Doris Brodbeck.\nGanze Sendung als
  Podcast unter: https://www.radiomunot.ch/g/unterwegs  
 \nhttp://www.ref-sh.ch/gedanken-zum-tag von Montag bis Freitag um 6.50 Uhr
  auf Radio Munot (nur Werktage). \nhttp://www.ref-sh.ch/shf jeweils
  Samstag ab 18.30 Uhr bis Sonntag 15.30 Uhr im Schaffhauser Fernsehen mit
  stündlicher Wiederholung. \n\nKontakt: Doris Brodbeck\, \nNatalie De
  Lisa\n\nWeitere Infos: https://www.ref-sh.ch/veranstaltung/179341
SUMMARY:Unterwegs bei Radio Munot
PRIORITY:5
X-MICROSOFT-CDO-IMPORTANCE:1
CLASS:PUBLIC
END:VEVENT
END:VCALENDAR
