BEGIN:VCALENDAR
PRODID:-//kirchenweb.ch gmbh//veranstaltungsausgabe v2.0//DE
VERSION:2.0
METHOD:PUBLISH
BEGIN:VEVENT
DTSTART:20240828T070000Z
DTEND:20240828T090000Z
LOCATION:Gemeindestube\, Kirchgasse 8\, 8226 Schleitheim
TRANSP:OPAQUE
SEQUENCE:0
UID:179276-veranstaltung@ref-sh.ch
DTSTAMP:20250115T124048Z
DESCRIPTION:Hier der Link zum https://www.ref-sh.ch/dok/47786\n\nKontakt:
  Jessica Garcia\n\nWeitere Infos:
  https://www.ref-sh.ch/veranstaltung/179276
SUMMARY:Krabbelgruppe
PRIORITY:5
X-MICROSOFT-CDO-IMPORTANCE:1
CLASS:PUBLIC
END:VEVENT
END:VCALENDAR
