BEGIN:VCALENDAR
PRODID:-//kirchenweb.ch gmbh//veranstaltungsausgabe v2.0//DE
VERSION:2.0
METHOD:PUBLISH
BEGIN:VEVENT
DTSTART:20250930T120000Z
DTEND:20250930T140000Z
LOCATION:Unterrichtszimmer bei der Dorfkirche\, \,
TRANSP:OPAQUE
SEQUENCE:0
UID:179217-veranstaltung@ref-sh.ch
DTSTAMP:20250811T161555Z
DESCRIPTION:Für Senioren/Seniorinnen und alle Interessierten.
  Anschliessend Kaffee und Kuchen\n\nKontakt: Nela Brill Züllig 052/681 22
  60 oder 079/793 58 76\n\nWeitere Infos:
  https://www.ref-sh.ch/veranstaltung/179217
SUMMARY:Singen
PRIORITY:5
X-MICROSOFT-CDO-IMPORTANCE:1
CLASS:PUBLIC
END:VEVENT
END:VCALENDAR
