BEGIN:VCALENDAR
PRODID:-//kirchenweb.ch gmbh//veranstaltungsausgabe v2.0//DE
VERSION:2.0
METHOD:PUBLISH
BEGIN:VEVENT
DTSTART:20250524T080000Z
DTEND:20250524T100000Z
LOCATION:Ochseschüür\, Pfrundhausgasse 3\, 8200 Schaffhausen
TRANSP:OPAQUE
SEQUENCE:0
UID:179074-veranstaltung@ref-sh.ch
DTSTAMP:20250114T084614Z
DESCRIPTION:Kontakt: Edith Vondach (Eglise)\n\nWeitere Infos:
  https://www.ref-sh.ch/veranstaltung/179074
SUMMARY:Cercle de lecture
PRIORITY:5
X-MICROSOFT-CDO-IMPORTANCE:1
CLASS:PUBLIC
END:VEVENT
END:VCALENDAR
