BEGIN:VCALENDAR
PRODID:-//kirchenweb.ch gmbh//veranstaltungsausgabe v2.0//DE
VERSION:2.0
METHOD:PUBLISH
BEGIN:VEVENT
DTSTART:20251212T180000Z
DTEND:20251212T190000Z
LOCATION:Kirche\, \,
TRANSP:OPAQUE
SEQUENCE:0
UID:179059-veranstaltung@ref-sh.ch
DTSTAMP:20251116T155633Z
DESCRIPTION:Offenes Adventssingen mit dem Gemischten Chor Rheinklang und
  dem Kinderchor Farfallina unter der Leitung von Simone Hofstetter.\n\nEin
  adventlicher Abend mit Liedern zum Zuhören und Mitsingen\, einer
  Adventsgeschichte und anschliessender Stubete.\n\nKontakt:
  barbara.erdmann@ref-sh.ch\n\nWeitere Infos:
  https://www.ref-sh.ch/veranstaltung/179059
SUMMARY:Offenes Adventssingen
PRIORITY:5
X-MICROSOFT-CDO-IMPORTANCE:1
CLASS:PUBLIC
END:VEVENT
END:VCALENDAR
