BEGIN:VCALENDAR
PRODID:-//kirchenweb.ch gmbh//veranstaltungsausgabe v2.0//DE
VERSION:2.0
METHOD:PUBLISH
BEGIN:VEVENT
DTSTART:20250111T150000Z
DTEND:20250111T190000Z
LOCATION:Pfarrhaus Münster\, Münsterplatz 32\, 8200 Schaf
TRANSP:OPAQUE
SEQUENCE:0
UID:178537-veranstaltung@ref-sh.ch
DTSTAMP:20241228T131713Z
DESCRIPTION:Ziehe mit uns als Könige (oder als Kamel) verkleidet durch
  die Strassen von Schaffhausen. Wir singen und sammeln für Kinder in Not.
 \n\nUnter dem Motto "Erhebt Eure Stimme" beteiligen sich die Kinder und
  Jugendlichen der Kirchgemeinde St. Johann-Münster an der
  Sternsinger-Aktion 2025. Gemeinsam mit anderen Gemeinden schwärmen sie
  in der zweiten Januarwoche aus und bringen den Segen in die Häuser. Das
  gesammelte Geld wird für die Umsetzung der weltweiten Kinderrechte
  eingesetzt\, damit Projekte entstehen\, die benachteiligten Kindern
  Schutz und Förderung bieten können.\n\nTreffpunkt 16.00 Uhr im
  Unterrichtszimmer im Münsterpfarrhaus\n\n\nKontakt: \n\nWeitere Infos:
  https://www.ref-sh.ch/veranstaltung/178537
SUMMARY:Aktion Sternsingen
PRIORITY:5
X-MICROSOFT-CDO-IMPORTANCE:1
CLASS:PUBLIC
END:VEVENT
END:VCALENDAR
