BEGIN:VCALENDAR
PRODID:-//kirchenweb.ch gmbh//veranstaltungsausgabe v2.0//DE
VERSION:2.0
METHOD:PUBLISH
BEGIN:VEVENT
DTSTART:20250701T073000Z
DTEND:20250701T083000Z
LOCATION:Alterszentrum Wiesli\, Rietstrasse 75\, 8200 Schaffhausen
TRANSP:OPAQUE
SEQUENCE:0
UID:178208-veranstaltung@ref-sh.ch
DTSTAMP:20241217T133223Z
DESCRIPTION:Kontakt: Pfr. Martin Baumgartner\n\nWeitere Infos:
  https://www.ref-sh.ch/veranstaltung/178208
SUMMARY:Gottesdienst im Altersheim Wiesli
PRIORITY:5
X-MICROSOFT-CDO-IMPORTANCE:1
CLASS:PUBLIC
END:VEVENT
END:VCALENDAR
