BEGIN:VCALENDAR
PRODID:-//kirchenweb.ch gmbh//veranstaltungsausgabe v2.0//DE
VERSION:2.0
METHOD:PUBLISH
BEGIN:VEVENT
DTSTART:20251031T091500Z
DTEND:20251031T100500Z
LOCATION:Seniorenzentrum Reiat\, Blumenstrasse 19\, 8240 Thayngen
TRANSP:OPAQUE
SEQUENCE:0
UID:176829-veranstaltung@ref-sh.ch
DTSTAMP:20251026T212458Z
DESCRIPTION:Kontakt: \n\n\nWeitere Infos:
  https://www.ref-sh.ch/veranstaltung/176829
SUMMARY:Kein Gottesdienst im Seniorenzentrum Reiat
PRIORITY:5
X-MICROSOFT-CDO-IMPORTANCE:1
CLASS:PUBLIC
END:VEVENT
END:VCALENDAR
