BEGIN:VCALENDAR
PRODID:-//kirchenweb.ch gmbh//veranstaltungsausgabe v2.0//DE
VERSION:2.0
METHOD:PUBLISH
BEGIN:VEVENT
DTSTART:20251024T081500Z
DTEND:20251024T090500Z
LOCATION:Seniorenzentrum Reiat\, Blumenstrasse 19\, 8240 Thayngen
TRANSP:OPAQUE
SEQUENCE:0
UID:176828-veranstaltung@ref-sh.ch
DTSTAMP:20250924T062845Z
DESCRIPTION:Kontakt: H. Schöttli\, M. Studer\n\nWeitere Infos:
  https://www.ref-sh.ch/veranstaltung/176828
SUMMARY:Gottesdienst im Seniorenzentrum Reiat
PRIORITY:5
X-MICROSOFT-CDO-IMPORTANCE:1
CLASS:PUBLIC
END:VEVENT
END:VCALENDAR
