BEGIN:VCALENDAR
PRODID:-//kirchenweb.ch gmbh//veranstaltungsausgabe v2.0//DE
VERSION:2.0
METHOD:PUBLISH
BEGIN:VEVENT
DTSTART:20251010T081500Z
DTEND:20251010T090500Z
LOCATION:Seniorenzentrum Reiat\, Blumenstrasse 19\, 8240 Thayngen
TRANSP:OPAQUE
SEQUENCE:0
UID:176826-veranstaltung@ref-sh.ch
DTSTAMP:20250924T062719Z
DESCRIPTION:Kontakt: Boris Schlüssel\n\n\nWeitere Infos:
  https://www.ref-sh.ch/veranstaltung/176826
SUMMARY:Gottesdienst im Seniorenzentrum Reiat
PRIORITY:5
X-MICROSOFT-CDO-IMPORTANCE:1
CLASS:PUBLIC
END:VEVENT
END:VCALENDAR
