BEGIN:VCALENDAR
PRODID:-//kirchenweb.ch gmbh//veranstaltungsausgabe v2.0//DE
VERSION:2.0
METHOD:PUBLISH
BEGIN:VEVENT
DTSTART:20250912T081500Z
DTEND:20250912T090500Z
LOCATION:Seniorenzentrum Reiat\, Blumenstrasse 19\, 8240 Thayngen
TRANSP:OPAQUE
SEQUENCE:0
UID:176822-veranstaltung@ref-sh.ch
DTSTAMP:20250905T185530Z
DESCRIPTION:Kein Gottesdienst im SIR wegen interner Veranstaltung\n
 \nKontakt: Pfrn. Heidrun Werder\n\n\nWeitere Infos:
  https://www.ref-sh.ch/veranstaltung/176822
SUMMARY:Kein Gottesdienst im Seniorenzentrum Reiat
PRIORITY:5
X-MICROSOFT-CDO-IMPORTANCE:1
CLASS:PUBLIC
END:VEVENT
END:VCALENDAR
