BEGIN:VCALENDAR
PRODID:-//kirchenweb.ch gmbh//veranstaltungsausgabe v2.0//DE
VERSION:2.0
METHOD:PUBLISH
BEGIN:VEVENT
DTSTART:20251119T104500Z
DTEND:20251119T114500Z
LOCATION:Früeling - Zentrum fürs Alter\, Zelgstrasse 2\, 8222 Beringen
TRANSP:OPAQUE
SEQUENCE:0
UID:176089-veranstaltung@ref-sh.ch
DTSTAMP:20250125T191515Z
DESCRIPTION:Verbringen Sie ein paar gemütliche Stunden bei einem feinen
  Essen im Kreise von Bekannten.\n\nKontakt: Anmeldung im Früeling -
  Zentrum fürs Alter\nTel. 052 685 16 51\n\nWeitere Infos:
  https://www.ref-sh.ch/veranstaltung/176089
SUMMARY:Senioren-Mittagstisch für Löhningen und Guntmadingen
PRIORITY:5
X-MICROSOFT-CDO-IMPORTANCE:1
CLASS:PUBLIC
END:VEVENT
END:VCALENDAR
