BEGIN:VCALENDAR
PRODID:-//kirchenweb.ch gmbh//veranstaltungsausgabe v2.0//DE
VERSION:2.0
METHOD:PUBLISH
BEGIN:VEVENT
DTSTART:20241211T130000Z
DTEND:20241211T160000Z
LOCATION:Mesmerhuus\, Kloster 14\, 8224 Löhningen
TRANSP:OPAQUE
SEQUENCE:0
UID:175861-veranstaltung@ref-sh.ch
DTSTAMP:20241119T160032Z
DESCRIPTION:Eine 3-er Serie mit Lukas Huber und Doris Klingler: Drei
  besondere Geschichten der biblischen Menschheitsgeschichte. Dritter und
  letzter Nachmittag der 3-er Serie.\n\nKontakt: ruedi.spoerndli@ref-sh.ch
 \n\nWeitere Infos: https://www.ref-sh.ch/veranstaltung/175861
SUMMARY:Senioren-Nachmittag
PRIORITY:5
X-MICROSOFT-CDO-IMPORTANCE:1
CLASS:PUBLIC
END:VEVENT
END:VCALENDAR
