BEGIN:VCALENDAR
PRODID:-//kirchenweb.ch gmbh//veranstaltungsausgabe v2.0//DE
VERSION:2.0
METHOD:PUBLISH
BEGIN:VEVENT
DTSTART:20251112T160000Z
DTEND:20251112T180000Z
LOCATION:Zwinglikirche\, Hochstrasse 202\, 8200 Schaffhausen
TRANSP:OPAQUE
SEQUENCE:0
UID:175408-veranstaltung@ref-sh.ch
DTSTAMP:20241114T103312Z
DESCRIPTION:Kontakt: Pfr. Wolfram Kötter\n\nWeitere Infos:
  https://www.ref-sh.ch/veranstaltung/175408
SUMMARY:Protest. Solidarität SH Vorstand
PRIORITY:5
X-MICROSOFT-CDO-IMPORTANCE:1
CLASS:PUBLIC
END:VEVENT
END:VCALENDAR
