BEGIN:VCALENDAR
PRODID:-//kirchenweb.ch gmbh//veranstaltungsausgabe v2.0//DE
VERSION:2.0
METHOD:PUBLISH
BEGIN:VEVENT
DTSTART:20250924T153000Z
DTEND:20250924T163000Z
LOCATION:Kirchgemeinderaum Adler\, Dorfstrasse 32\, 8240 Thayngen
TRANSP:OPAQUE
SEQUENCE:0
UID:175234-veranstaltung@ref-sh.ch
DTSTAMP:20241112T092555Z
DESCRIPTION:Kontakt: M. Strütt\n\nWeitere Infos:
  https://www.ref-sh.ch/veranstaltung/175234
SUMMARY:Israelgebet
PRIORITY:5
X-MICROSOFT-CDO-IMPORTANCE:1
CLASS:PUBLIC
END:VEVENT
END:VCALENDAR
