BEGIN:VCALENDAR
PRODID:-//kirchenweb.ch gmbh//veranstaltungsausgabe v2.0//DE
VERSION:2.0
METHOD:PUBLISH
BEGIN:VEVENT
DTSTART:20241127T130000Z
DTEND:20241127T160000Z
LOCATION:HofAckerZentrum\, Alpenstrasse 176\, 8203 Schaffhausen
TRANSP:OPAQUE
SEQUENCE:0
UID:175063-veranstaltung@ref-sh.ch
DTSTAMP:20241126T093836Z
DESCRIPTION:Nichts ist schöner als selbstgemachte Weihnachtsgeschenke!
 \nAn diesem Nachmittag werden wir zusammen kreativ sein\, eine Geschichte
  hören und einen z'Vieri essen. \nDas Angebot richtet sich an
  Erwachsene\, ist jedoch mit dem Bastelnachmittag für Kinder
  kombinierbar!\n\nKostenbeitrag 5 Franken pro Person\n\n\nWir freuen uns
  auf ein zahlreiches Erscheinen!\n\nKontakt: Janice Mokbel\n\nWeitere
  Infos: https://www.ref-sh.ch/veranstaltung/175063
SUMMARY:Weihnachtskarten Basteln für Erwachsene
PRIORITY:5
X-MICROSOFT-CDO-IMPORTANCE:1
CLASS:PUBLIC
END:VEVENT
END:VCALENDAR
