BEGIN:VCALENDAR
PRODID:-//kirchenweb.ch gmbh//veranstaltungsausgabe v2.0//DE
VERSION:2.0
METHOD:PUBLISH
BEGIN:VEVENT
DTSTART:20241119T140000Z
DTEND:20241119T170000Z
LOCATION:Volg\, \, 8454 Buchberg
TRANSP:OPAQUE
SEQUENCE:0
UID:175060-veranstaltung@ref-sh.ch
DTSTAMP:20241108T144940Z
DESCRIPTION:Wir packen für Sie ein!\n\nMöchten Sie sich gerne an der
  Päckliaktion mitmachen und wissen nicht\, was Sie ins Päckli tun
  wollen? Wir helfen. Heute und am 26. November von 15 Uhr bis 18 Uhr
  stehen wir im Volg Buchberg mit den 5. Klassuntikinder bereit und packen
  für Sie ein tolles Päckli.\n\nVon der Christlichen Ostmission
  überbracht\, beglückt Ihr Päckli an Weihnachten eine bedürftige
  Familie in Osteuropa.\n\n\nKontakt: Barbara Erdmann\n\nWeitere Infos:
  https://www.ref-sh.ch/veranstaltung/175060
SUMMARY:Einpackaktion
PRIORITY:5
X-MICROSOFT-CDO-IMPORTANCE:1
CLASS:PUBLIC
END:VEVENT
END:VCALENDAR
