BEGIN:VCALENDAR
PRODID:-//kirchenweb.ch gmbh//veranstaltungsausgabe v2.0//DE
VERSION:2.0
METHOD:PUBLISH
BEGIN:VEVENT
DTSTART:20251016T131500Z
DTEND:20251016T150000Z
LOCATION:Kirchgemeinderaum Adler\, Dorfstrasse 32\, 8240 Thayngen
TRANSP:OPAQUE
SEQUENCE:0
UID:175054-veranstaltung@ref-sh.ch
DTSTAMP:20241108T163034Z
DESCRIPTION:Bibellesegruppe im Adler. Auch für Neueinsteiger geeignet.\n
 \nKontakt: D. Eisele\n\nWeitere Infos:
  https://www.ref-sh.ch/veranstaltung/175054
SUMMARY:Bibellesegruppe
PRIORITY:5
X-MICROSOFT-CDO-IMPORTANCE:1
CLASS:PUBLIC
END:VEVENT
END:VCALENDAR
