BEGIN:VCALENDAR
PRODID:-//kirchenweb.ch gmbh//veranstaltungsausgabe v2.0//DE
VERSION:2.0
METHOD:PUBLISH
BEGIN:VEVENT
DTSTART:20251023T164500Z
DTEND:20251023T180000Z
LOCATION:Münster\, Münsterplatz\, 8200 Schaffhausen
TRANSP:OPAQUE
SEQUENCE:0
UID:175025-veranstaltung@ref-sh.ch
DTSTAMP:20241107T163046Z
DESCRIPTION:Offen für alle. Keine Vorkenntnisse nötig. Teilnahme frei\,
  Kollekte\nLeitung: Verena Hubmann\, Marianne Siffert\, Doris Brodbeck\n
 \nhttps://www.ref-sh.ch/meditationstanz\n\nKontakt: Pfarrerin Verena
  Hubmann\n\nWeitere Infos: https://www.ref-sh.ch/veranstaltung/175025
SUMMARY:Himmelweit und erdennah - Meditation mit Tanzen\, Texten und
  Stille
PRIORITY:5
X-MICROSOFT-CDO-IMPORTANCE:1
CLASS:PUBLIC
END:VEVENT
END:VCALENDAR
