BEGIN:VCALENDAR
PRODID:-//kirchenweb.ch gmbh//veranstaltungsausgabe v2.0//DE
VERSION:2.0
METHOD:PUBLISH
BEGIN:VEVENT
DTSTART:20250928T081500Z
DTEND:20250928T093000Z
LOCATION:Münster\, Münsterplatz\, 8200 Schaffhausen
TRANSP:OPAQUE
SEQUENCE:0
UID:174971-veranstaltung@ref-sh.ch
DTSTAMP:20250918T093541Z
DESCRIPTION:Gottesdienst zum Erntedank - als Gesegnete sollen wir selber
  Segen sein\, so heisst es in 1. Mose 12\,2: "Ich will dich segnen\, und
  du sollst ein Segen sein."\n\nMit Paul Ryf am Alphorn und Andreas Jud an
  der Orgel\n\nAnschliessend Suppe und Bürli vom Landfrauen Apéro\n\n
 \nKontakt: Pfarrerin Verena Hubmann\n\nWeitere Infos:
  https://www.ref-sh.ch/veranstaltung/174971
SUMMARY:Gottesdienst zum Erntedank
PRIORITY:5
X-MICROSOFT-CDO-IMPORTANCE:1
CLASS:PUBLIC
END:VEVENT
END:VCALENDAR
