BEGIN:VCALENDAR
PRODID:-//kirchenweb.ch gmbh//veranstaltungsausgabe v2.0//DE
VERSION:2.0
METHOD:PUBLISH
BEGIN:VEVENT
DTSTART:20241120T080000Z
DTEND:20241120T103000Z
LOCATION:NACHBAR Stahlgiesserei\, Zur Stahlgiesserei 15B\, 8200
  Schaffhausen
TRANSP:OPAQUE
SEQUENCE:0
UID:174910-veranstaltung@ref-sh.ch
DTSTAMP:20241107T163004Z
DESCRIPTION:Einen feinen Kafi zwischendurch an der Bar\, einen
  Genussmoment mit Gipfeli in der Sofaecke\, eine Partie Schach\, ein paar
  Takte am Klavier oder ein Gespräch über Gott und die Welt… viel ist
  möglich am Mittwochmorgen in der NACHBAR. Du bist willkommen (mit und
  ohne Laptop)!\n\nKontakt: Miriam Gehrke\n\nWeitere Infos:
  https://www.ref-sh.ch/veranstaltung/174910
SUMMARY:Kafi Ziit mit Miriam
PRIORITY:5
X-MICROSOFT-CDO-IMPORTANCE:1
CLASS:PUBLIC
END:VEVENT
END:VCALENDAR
