BEGIN:VCALENDAR
PRODID:-//kirchenweb.ch gmbh//veranstaltungsausgabe v2.0//DE
VERSION:2.0
METHOD:PUBLISH
BEGIN:VEVENT
DTSTART:20241215T160000Z
DTEND:20241215T170000Z
LOCATION:Kirche\, \,  Buchberg-Rüdlingen
TRANSP:OPAQUE
SEQUENCE:0
UID:174878-veranstaltung@ref-sh.ch
DTSTAMP:20241118T110021Z
DESCRIPTION:Mit Zora Janská\, Barockvioline und Václav Hřebec\, Orgel
  und Gitarre \nEintritt frei\, Kollekte\n\nKontakt:
  barbara.erdmann@ref-sh.ch\n\nWeitere Infos:
  https://www.ref-sh.ch/veranstaltung/174878
SUMMARY:Adventskonzert auf 10 Saiten und unzählbaren Pfeifen mit Zora
  Janská und Václav Hřebec
PRIORITY:5
X-MICROSOFT-CDO-IMPORTANCE:1
CLASS:PUBLIC
END:VEVENT
END:VCALENDAR
