BEGIN:VCALENDAR
PRODID:-//kirchenweb.ch gmbh//veranstaltungsausgabe v2.0//DE
VERSION:2.0
METHOD:PUBLISH
BEGIN:VEVENT
DTSTART:20241101T130000Z
DTEND:20241101T170000Z
LOCATION:Zwinglikirche\, Hochstrasse 202\, 8200 Schaffhausen
TRANSP:OPAQUE
SEQUENCE:0
UID:174665-veranstaltung@ref-sh.ch
DTSTAMP:20241101T105617Z
DESCRIPTION:Thema Verwandlung\nÖffnungszeiten in der Zwinglikirche:\nMo.
  28.10. – Mo. 4.11. täglich von 14 – 18 Uhr\nDi. 5.11. 16 – 18
  Uhr\, Mi. 6.11. 14 – 18 Uhr\, Do. 7.11. – Fr. 8.11. 14 – 16 Uhr
 \nFinissage im Gottesdienst vom 10. November um 10 Uhr\n\n\nKontakt:
  susanna.weidmann@ref-sh.ch\n\nWeitere Infos:
  https://www.ref-sh.ch/veranstaltung/174665
SUMMARY:Ausstellung Yulanie Perumbadage
PRIORITY:5
X-MICROSOFT-CDO-IMPORTANCE:1
CLASS:PUBLIC
END:VEVENT
END:VCALENDAR
