BEGIN:VCALENDAR
PRODID:-//kirchenweb.ch gmbh//veranstaltungsausgabe v2.0//DE
VERSION:2.0
METHOD:PUBLISH
BEGIN:VEVENT
DTSTART:20251214T170000Z
DTEND:20251214T200000Z
LOCATION:Winterlislöchli Osterfingen (Höhli)\, \,
TRANSP:OPAQUE
SEQUENCE:0
UID:174596-veranstaltung@ref-sh.ch
DTSTAMP:20260109T205351Z
DESCRIPTION:Grüezi\, grüezi\nKommenden Sonntag (14. Dez) findet unser
  Outdoor-Weihnachts-Boxenstopp statt🎄🕯️.\nWir treffen uns im
  Winterlislöchli Osterfingen (Höhli🦇).
 \nhttps://maps.app.goo.gl/mKmDfNjmb1PTTa2Z9\n\nAnreise:\n- 👉Man kann
  selbstständig kommen (siehe Karte).\n- 👉Falls ein Shuttle benötigt.
  bitte melden - Sebastian Ebi\n- 👉Wanderung \n\nAblauf:\n- 18:00 Uhr
  Eintrudeln☕\n- 18:15 Uhr Abendessen🥘\n- 19:30 Uhr Beginn
  Gottesdienst🔥\n\nMitbringen:\n- Warme Kleider für draussen🧣\n-
  Geschirr für Suppe und Schinken🍽️\n- Tasse☕\n- Bibel📖\n- Evtl.
  Notizbüchlein📝\n- Evtl. Stirnlampe🔦\n\nWanderung zum
  Weihnachts-Boxenstopp 🥾\nWir werden auch dieses Jahr für alle die
  möchten\, eine kurze Wanderung zum Weihnachts-Boxenstopp veranstalten.
 \nDie Wanderung startet bei der Bergkirche Neunkirch. 
 \nhttps://maps.app.goo.gl/P8X5wzjxoyiJCpKTA?g_st=ipc\n❗Bitte achtet
  darauf\, dass ihr pünktlich seid. Die Wandergruppe wird pünktlich
  abmarschieren.😅\n\nStartzeit: 16:30 Uhr\nOrt: Bergkirche Neunkirch
 \nLaufzeit: ca. 1 Std. 30 Min. (1 Std. reine Laufzeit)\nRückweg: Zurück
  wandern oder\, man könnte aber auch gut bei jemandem mitfahren.\n
 \nKontakt: Sebastian Ebi\n\nWeitere Infos:
  https://www.ref-sh.ch/veranstaltung/174596
SUMMARY:Boxenstopp
PRIORITY:5
X-MICROSOFT-CDO-IMPORTANCE:1
CLASS:PUBLIC
END:VEVENT
END:VCALENDAR
