BEGIN:VCALENDAR
PRODID:-//kirchenweb.ch gmbh//veranstaltungsausgabe v2.0//DE
VERSION:2.0
METHOD:PUBLISH
BEGIN:VEVENT
DTSTART:20250914T080000Z
DTEND:20250914T090000Z
LOCATION:Bergkirche Hallau\, Bergstrasse\, 8215 Hallau
TRANSP:OPAQUE
SEQUENCE:0
UID:174461-veranstaltung@ref-sh.ch
DTSTAMP:20250819T142944Z
DESCRIPTION:Einmal im Herbst ist  Rückschau angesagt. Sich freuen und
  danke sagen für den Segen aus der Natur und der Arbeit in Feld\, Rebberg
  und Garten tut gut. \nMit Gedenken der Verstorbenen aus Juli und August.
 \n\nWoran haben Sie dieses Jahr besonders Freude gehabt? Teilen Sie das
  mit uns.\nSchreiben Sie das bis zum 7.September an wiebke.suter@ref-sh.ch
  inklusive Foto oder - noch besser - bringen SIe ein Muster ihrer
  Lieblingsblume\, Kartoffel etc. mit in den Gottesdienst.\n\n
 \nMitfahrgelegenheit zur Bergkirche gewünscht?\nBitte bis Freitag melden
  an Ulrich Daum (076 665 80 89)\n\nKontakt: Pfrn. Wiebke Suter\n\nWeitere
  Infos: https://www.ref-sh.ch/veranstaltung/174461
SUMMARY:Erntedankgottesdienst
PRIORITY:5
X-MICROSOFT-CDO-IMPORTANCE:1
CLASS:PUBLIC
END:VEVENT
END:VCALENDAR
