BEGIN:VCALENDAR
PRODID:-//kirchenweb.ch gmbh//veranstaltungsausgabe v2.0//DE
VERSION:2.0
METHOD:PUBLISH
BEGIN:VEVENT
DTSTART:20250824T073000Z
DTEND:20250824T083000Z
LOCATION:HofAckerZentrum\, Alpenstrasse 176\, 8203 Schaffhausen
TRANSP:OPAQUE
SEQUENCE:0
UID:173663-veranstaltung@ref-sh.ch
DTSTAMP:20250815T083800Z
DESCRIPTION:Mitwirkung: Pfarrerin Beatrice Kunz Pfeiffer\, Sozialdiakonin
  Adriana Di Cesare\nAnsprachen: Kirchenstandspräsidentin Christine
  Thommen\, Kirchenratspräsident Wolfram Kötter\nAnschliessend Apéro\n
 \nKontakt: Pfr. Daniel Müller\n\nWeitere Infos:
  https://www.ref-sh.ch/veranstaltung/173663
SUMMARY:Gottesdienst zur Verabschiedung von Pfarrer Daniel Müller
PRIORITY:5
X-MICROSOFT-CDO-IMPORTANCE:1
CLASS:PUBLIC
END:VEVENT
END:VCALENDAR
