BEGIN:VCALENDAR
PRODID:-//kirchenweb.ch gmbh//veranstaltungsausgabe v2.0//DE
VERSION:2.0
METHOD:PUBLISH
BEGIN:VEVENT
DTSTART:20260428T051500Z
DTEND:20260428T061500Z
LOCATION:St.Johann\, Kirchhofplatz\, 8200 Schaffhausen
TRANSP:OPAQUE
SEQUENCE:0
UID:173507-veranstaltung@ref-sh.ch
DTSTAMP:20241017T124510Z
DESCRIPTION:Kontakt: Pfarrerin Verena Hubmann\n\nWeitere Infos:
  https://www.ref-sh.ch/veranstaltung/173507
SUMMARY:Meditation
PRIORITY:5
X-MICROSOFT-CDO-IMPORTANCE:1
CLASS:PUBLIC
END:VEVENT
END:VCALENDAR
