BEGIN:VCALENDAR
PRODID:-//kirchenweb.ch gmbh//veranstaltungsausgabe v2.0//DE
VERSION:2.0
METHOD:PUBLISH
BEGIN:VEVENT
DTSTART:20241023T173000Z
DTEND:20241023T193000Z
LOCATION:Zentrum St. Konrad\, Stauffacherstrasse 3\, 8200 Schaffhausen
TRANSP:OPAQUE
SEQUENCE:0
UID:173453-veranstaltung@ref-sh.ch
DTSTAMP:20241016T153002Z
DESCRIPTION:Die KI fordert uns heraus\, neu über unser Verhältnis von
  Kreativität und Intelligenz nachzudenken - und damit auch darüber\, was
  der Mensch eigentlich ist. Was ist Kreativität? Was ist Intelligenz?\n
 \nmit der Referentin Prof. Dr. Georgiana Huian\, ausserordentliche
  Professorin für Systematische Theologie und Ökumene am Institut für
  christkatholische Theologie\, Bern\n\nModeration: Pfarrer Klaus Gross\n
 \nDie Landeskirchen laden ein.\nAnschliessend Apéro\n\nKontakt: Pfr.
  Peter Vogelsanger\n\nWeitere Infos:
  https://www.ref-sh.ch/veranstaltung/173453
SUMMARY:Die Kirchen diskutieren
PRIORITY:5
X-MICROSOFT-CDO-IMPORTANCE:1
CLASS:PUBLIC
END:VEVENT
END:VCALENDAR
