BEGIN:VCALENDAR
PRODID:-//kirchenweb.ch gmbh//veranstaltungsausgabe v2.0//DE
VERSION:2.0
METHOD:PUBLISH
BEGIN:VEVENT
DTSTART:20251226T160000Z
DTEND:20251226T170000Z
LOCATION:Kirche\, \,  Buchberg-Rüdlingen
TRANSP:OPAQUE
SEQUENCE:0
UID:173182-veranstaltung@ref-sh.ch
DTSTAMP:20251208T103732Z
DESCRIPTION:"Auf Flügeln des Gesanges und Harfe"\nGesang: Yumi Golay
 \nHarfe: Elisabeth Boeglin\n\n\nKontakt: barbara.erdmann@ref-sh.ch\n
 \nWeitere Infos: https://www.ref-sh.ch/veranstaltung/173182
SUMMARY:Weihnachtskonzert mit Yumi Golay
PRIORITY:5
X-MICROSOFT-CDO-IMPORTANCE:1
CLASS:PUBLIC
END:VEVENT
END:VCALENDAR
