BEGIN:VCALENDAR
PRODID:-//kirchenweb.ch gmbh//veranstaltungsausgabe v2.0//DE
VERSION:2.0
METHOD:PUBLISH
BEGIN:VEVENT
DTSTART:20241130T090000Z
DTEND:20241130T130000Z
LOCATION:Kiwi Kino \, \, 8200 Schaffhausen
TRANSP:OPAQUE
SEQUENCE:0
UID:173001-veranstaltung@ref-sh.ch
DTSTAMP:20241124T081246Z
DESCRIPTION:Kino Matinée im Kiwi Kino\, 10 Uhr\, anschliessend Lunch im
  Theater Restaurant.\nSeparate Einladung mit Anmeldung an alle
  freiwilligen Mitarbeiterinnen und Mitarbeiter des Stadtverbandes.\n
 \nKontakt: Nicole Russenberger\, Sozialdiakonie\n\nWeitere Infos:
  https://www.ref-sh.ch/veranstaltung/173001
SUMMARY:Dankanlass für Freiwillige Matinee im Kiwi Kino
PRIORITY:5
X-MICROSOFT-CDO-IMPORTANCE:1
CLASS:PUBLIC
END:VEVENT
END:VCALENDAR
