BEGIN:VCALENDAR
PRODID:-//kirchenweb.ch gmbh//veranstaltungsausgabe v2.0//DE
VERSION:2.0
METHOD:PUBLISH
BEGIN:VEVENT
DTSTART:20241127T130000Z
DTEND:20241127T153000Z
LOCATION:HofAckerZentrum Buchthalen\, Alpenstrasse 176\, 8203 Schaffhausen
TRANSP:OPAQUE
SEQUENCE:0
UID:172977-veranstaltung@ref-sh.ch
DTSTAMP:20241001T153007Z
DESCRIPTION:Nichts ist Schöner als selbstgemachte Weihnachtsgeschenke! An
  diesem Nachmittag werden wir zusammen kreativ sein\, eine Geschichte
  hören und einen z'Vieri essen. Das Angebot richtet sich an Kinder und
  ihre Begleitpersonen. Ab 10 Jahren dürfen die Kinder auch alleine
  teilnehmen.\n\nDie Kosten pro Familie betragen 15 Franken.\n\nKontakt:
  stephanie.lemke-signer\n\nWeitere Infos:
  https://www.ref-sh.ch/veranstaltung/172977
SUMMARY:Bastelnachmittag für Kinder
PRIORITY:5
X-MICROSOFT-CDO-IMPORTANCE:1
CLASS:PUBLIC
END:VEVENT
END:VCALENDAR
