BEGIN:VCALENDAR
PRODID:-//kirchenweb.ch gmbh//veranstaltungsausgabe v2.0//DE
VERSION:2.0
METHOD:PUBLISH
BEGIN:VEVENT
DTSTART:20250909T173000Z
DTEND:20250909T190000Z
LOCATION:Unterrichtszimmer bei der Dorfkirche\, Hammermauer 17\, 8215
  Hallau
TRANSP:OPAQUE
SEQUENCE:0
UID:172880-veranstaltung@ref-sh.ch
DTSTAMP:20250808T131641Z
DESCRIPTION:Die 10 Gebote aus der Bibel sind wichtige Lehrtexte des
  christlichen Glaubens\, ein Stück Weltliteratur und Paten für manche
  andere Regelwerke. Das wird erkundet:\n- Input aus Bibelwissenschaft\,
  Kirchen- und Weltgeschichte\n- ein Blick auf die 2 Originale und ihre
  Vorläufer in der Bibel \n- Raum für Fragen\, Austausch und Diskussion 
 \nMit Option zum geselligen Ausklang bis 21:30\n\nKeine Vorkenntnisse
  nötig.\nMitzubringen sind Neugier und Freude am Austausch. \n\nKontakt:
  Pfrn. Wiebke Suter\n\nWeitere Infos:
  https://www.ref-sh.ch/veranstaltung/172880
SUMMARY:Themenabend: In  Stein gemeisselt? Die 10 Gebote.
PRIORITY:5
X-MICROSOFT-CDO-IMPORTANCE:1
CLASS:PUBLIC
END:VEVENT
END:VCALENDAR
