BEGIN:VCALENDAR
PRODID:-//kirchenweb.ch gmbh//veranstaltungsausgabe v2.0//DE
VERSION:2.0
METHOD:PUBLISH
BEGIN:VEVENT
DTSTART:20251207T100000Z
DTEND:20251207T103000Z
LOCATION:Kirche\, Kirchstrasse 8\, 8214 Gächlingen
TRANSP:OPAQUE
SEQUENCE:0
UID:172870-veranstaltung@ref-sh.ch
DTSTAMP:20260114T071257Z
DESCRIPTION:An der Herbstversammlung stimmen wir über das Budget und
  weitere Traktanden ab.\n\nAnschliessend an die Versammlung offeriert der
  Kirchenstand einen Apéro.\n\nWeitere Infornmationen und Unterlagen:
 \nhttp://www.ref-sh.ch/kg/gaechlingen/kirchgemeindeversammlung\n\n
 \nKontakt: werner.naef@ref-sh.ch\n\nWeitere Infos:
  https://www.ref-sh.ch/veranstaltung/172870
SUMMARY:Kirchgemeindeversammlung
PRIORITY:5
X-MICROSOFT-CDO-IMPORTANCE:1
CLASS:PUBLIC
END:VEVENT
END:VCALENDAR
