BEGIN:VCALENDAR
PRODID:-//kirchenweb.ch gmbh//veranstaltungsausgabe v2.0//DE
VERSION:2.0
METHOD:PUBLISH
BEGIN:VEVENT
DTSTART:20241122T170000Z
DTEND:20241122T180000Z
LOCATION:Münster\, Münsterplatz\, 8200 Schaffhausen
TRANSP:OPAQUE
SEQUENCE:0
UID:172833-veranstaltung@ref-sh.ch
DTSTAMP:20241122T150322Z
DESCRIPTION:Heute am Freitag\, den 22. November\, feiert das Münster zu
  Allerheiligen sein 975. Jubiläum. 1049 ist ein «Schulbuchdatum»: der
  Weihetag der Oswaldkapelle („Auferstehungskapelle“) und des
  Klosterplatzes durch Papst Leo IX. gilt als Gründungsakt der
  Benediktiner-Abtei. Wir begehen das Dreiviertel Jubiläum mit einem
  kleinen Festakt. An der in benediktinischer Tradition gesungenen Vesper
  im Chor des Münsters wirkt der Abt der Benediktinerabtei Engelberg mit.
  Die meditativen Klänge des Saxofonisten Tobias Haug begleiten uns.\n\n\n
 \nKontakt: Pfarrer Roland Diethelm\n\nWeitere Infos:
  https://www.ref-sh.ch/veranstaltung/172833
SUMMARY:Festakt zum 975. Jahrestag der Gründung der Abtei zu
  Allerheiligen
PRIORITY:5
X-MICROSOFT-CDO-IMPORTANCE:1
CLASS:PUBLIC
END:VEVENT
END:VCALENDAR
