BEGIN:VCALENDAR
PRODID:-//kirchenweb.ch gmbh//veranstaltungsausgabe v2.0//DE
VERSION:2.0
METHOD:PUBLISH
BEGIN:VEVENT
DTSTART:20251214T090000Z
DTEND:20251214T100000Z
LOCATION:Kirche\, Kirchstrasse 8\, 8214 Gächlingen
TRANSP:OPAQUE
SEQUENCE:0
UID:172814-veranstaltung@ref-sh.ch
DTSTAMP:20251124T150436Z
DESCRIPTION:Ab 10 Uhr gibt es Zmorge im Bistro in der Kirche.\n\nKontakt:
  Ruth\n\nWeitere Infos: https://www.ref-sh.ch/veranstaltung/172814
SUMMARY:Kafi-Chile: Kaffee und Zopf in der Kirche
PRIORITY:5
X-MICROSOFT-CDO-IMPORTANCE:1
CLASS:PUBLIC
END:VEVENT
END:VCALENDAR
