BEGIN:VCALENDAR
PRODID:-//kirchenweb.ch gmbh//veranstaltungsausgabe v2.0//DE
VERSION:2.0
METHOD:PUBLISH
BEGIN:VEVENT
DTSTART:20241106T110000Z
DTEND:20241106T170000Z
LOCATION:Papiermuseum Basel\, St. Alban- Tal 37\, 4052 Basel
TRANSP:OPAQUE
SEQUENCE:0
UID:172455-veranstaltung@ref-sh.ch
DTSTAMP:20241101T091253Z
DESCRIPTION:Fahrt mit DB nach Basel\, Fussweg zum Papiermuseum\, danach
  geführter Rundgang durch die Geschichte der Papierherstellung inkl.
  selber Papierschöpfen.\nBahnfahrt\, Museumseintritt und Zvieri werden
  von den Teilnehmende selbst bezahlt\, die Kosten der Führung übernehmen
  die städtischen Kirchgemeinden.\n\nProgramm Ausflug\n12       Abfahrt DB
  Gleis 5 Schaffhausen \n13:12  Ankunft Basel Bad. Bahnhof\n14-15  Führung
  Papiermuseum\nanschliessend Möglichkeit Kaffee und Kuchen im Restaurant
  Papiermühle\nRückfahrt individuell ab 15:49 stündlich\n\n\nKontakt:
  Nicole Russenberger\, Sozialdiakonie\n\nWeitere Infos:
  https://www.ref-sh.ch/veranstaltung/172455
SUMMARY:58+Ausflug Papiermuseum Basel
PRIORITY:5
X-MICROSOFT-CDO-IMPORTANCE:1
CLASS:PUBLIC
END:VEVENT
END:VCALENDAR
