BEGIN:VCALENDAR
PRODID:-//kirchenweb.ch gmbh//veranstaltungsausgabe v2.0//DE
VERSION:2.0
METHOD:PUBLISH
BEGIN:VEVENT
DTSTART:20241107T183000Z
DTEND:20241107T193000Z
LOCATION:Ochseschüür\, \,
TRANSP:OPAQUE
SEQUENCE:0
UID:172405-veranstaltung@ref-sh.ch
DTSTAMP:20250114T153746Z
DESCRIPTION:Die Hiob – Geschichte (oder: was nützt der Glaube an Gott?)
 \nEs ist die schwierigste Frage für Menschen\, die an Gott glauben\, wie
  ein gütiger Gott all das sinnlose Leiden in der Welt zulassen kann. Auch
  die Geschichte von Hiob gibt uns keine Antwort\, aber sie zeigt uns
  Wege\, wie wir mit unseren offenen Fragen leben.\nWir lesen den Anfang
  der Geschichte mit Hilfe des hebräischen Urtextes und lernen so ein
 \nStück Weltliteratur kennen. Teilnehmen kann man ohne Vorkenntnisse
  entweder am Montagnachmittag oder Donnerstagabend:\n\nKontakt: Pfr.
  Markus Sieber\n\nWeitere Infos:
  https://www.ref-sh.ch/veranstaltung/172405
SUMMARY:Hebräisch-Lektüre mit Pfr. Markus Sieber
PRIORITY:5
X-MICROSOFT-CDO-IMPORTANCE:1
CLASS:PUBLIC
END:VEVENT
END:VCALENDAR
