BEGIN:VCALENDAR
PRODID:-//kirchenweb.ch gmbh//veranstaltungsausgabe v2.0//DE
VERSION:2.0
METHOD:PUBLISH
BEGIN:VEVENT
DTSTART:20240910T170000Z
DTEND:20240910T190000Z
LOCATION:Pfarrhaus Münster\, Münsterplatz 32\, 8200 Schaf
TRANSP:OPAQUE
SEQUENCE:0
UID:172060-veranstaltung@ref-sh.ch
DTSTAMP:20240910T142039Z
DESCRIPTION:Weiterbildung mit Pfr. Joachim Finger: „Israel in
  Sonntagsschule und Religionsunterricht.“ Wir lernen Realien aus Kult\,
  Leben und Glauben Israels und dem Judentum kennen und sprechen über
  einen verantwortungsvollen Einsatz in unserer christlichen Katechese.
  Bezüge des christlichen zum jüdischen Feier-Jahr und Einblicke in den
  christlich-jüdischen Dialog runden den Abend ab. Das Angebot ist gratis
  und richtet sich in erster Linie an Katechetinnen und
  Sonntagsschullehrerinnen im Kanton Schaffhausen.\n\nKontakt: Pfarrer
  Roland Diethelm\n\nWeitere Infos:
  https://www.ref-sh.ch/veranstaltung/172060
SUMMARY:Israel in Sonntagsschule und Religionsunterricht
PRIORITY:5
X-MICROSOFT-CDO-IMPORTANCE:1
CLASS:PUBLIC
END:VEVENT
END:VCALENDAR
