BEGIN:VCALENDAR
PRODID:-//kirchenweb.ch gmbh//veranstaltungsausgabe v2.0//DE
VERSION:2.0
METHOD:PUBLISH
BEGIN:VEVENT
DTSTART:20250713T080000Z
DTEND:20250713T090000Z
LOCATION:Zwinglikirche\, Hochstrasse 202\, 8200 Schaffhausen
TRANSP:OPAQUE
SEQUENCE:0
UID:171908-veranstaltung@ref-sh.ch
DTSTAMP:20250707T081940Z
DESCRIPTION:"Ich will dich segnen und du sollst ein Segen sein." 
 \nAusklang an der Feuerschale mit Wurst und Brot\, Wasser und Wein\n
 \nKontakt: Pfr. Wolfram Kötter\n\nWeitere Infos:
  https://www.ref-sh.ch/veranstaltung/171908
SUMMARY:Gemeinsamer Gottesdienst mit KG Herblingen
PRIORITY:5
X-MICROSOFT-CDO-IMPORTANCE:1
CLASS:PUBLIC
END:VEVENT
END:VCALENDAR
