BEGIN:VCALENDAR
PRODID:-//kirchenweb.ch gmbh//veranstaltungsausgabe v2.0//DE
VERSION:2.0
METHOD:PUBLISH
BEGIN:VEVENT
DTSTART:20240905T080000Z
DTEND:20240905T090000Z
LOCATION:Mesmerhuus\, Kloster 14\, 8224 Löhningen
TRANSP:OPAQUE
SEQUENCE:0
UID:171896-veranstaltung@ref-sh.ch
DTSTAMP:20240905T060413Z
DESCRIPTION:Kontakt: Marianne Huber\n\nWeitere Infos:
  https://www.ref-sh.ch/veranstaltung/171896
SUMMARY:Begleitgespräch
PRIORITY:5
X-MICROSOFT-CDO-IMPORTANCE:1
CLASS:PUBLIC
END:VEVENT
END:VCALENDAR
