BEGIN:VCALENDAR
PRODID:-//kirchenweb.ch gmbh//veranstaltungsausgabe v2.0//DE
VERSION:2.0
METHOD:PUBLISH
BEGIN:VEVENT
DTSTART:20240918T070000Z
DTEND:20240918T100000Z
LOCATION:wird kurzfristig bekannt gegeben\, \,
TRANSP:OPAQUE
SEQUENCE:0
UID:171801-veranstaltung@ref-sh.ch
DTSTAMP:20240904T110911Z
DESCRIPTION:Herzliche Einladung an Alle. Wir treffen uns zum
  Handarbeiten\, Kaffee\, Tee trinken & Austauschen. Möchtest du gerne  in
  Gesellschaft handarbeiten\, liegt da schon lange ein angefangenes Werk
  herum\, weisst du nicht mehr wie weiterstricken\, komm vorbei und wir
  helfen Dir weiter.\n\nKontakt: Susanne Ryser\n\nWeitere Infos:
  https://www.ref-sh.ch/veranstaltung/171801
SUMMARY:Handarbeitsplausch (der Ort wird kurzfristig bekannt gegeben)
PRIORITY:5
X-MICROSOFT-CDO-IMPORTANCE:1
CLASS:PUBLIC
END:VEVENT
END:VCALENDAR
