BEGIN:VCALENDAR
PRODID:-//kirchenweb.ch gmbh//veranstaltungsausgabe v2.0//DE
VERSION:2.0
METHOD:PUBLISH
BEGIN:VEVENT
DTSTART:20260510T074500Z
DTEND:20260510T091500Z
LOCATION:Ref. Kirche Beringen\, Postberg 21\, 8222 Beringen
TRANSP:OPAQUE
SEQUENCE:0
UID:171457-veranstaltung@ref-sh.ch
DTSTAMP:20251030T144329Z
DESCRIPTION:mit anschliessendem Apéro \n\nKontakt: Pfarrerin Jutta Schenk
 \n\nWeitere Infos: https://www.ref-sh.ch/veranstaltung/171457
SUMMARY:Konfirmations-Gottesdienst
PRIORITY:5
X-MICROSOFT-CDO-IMPORTANCE:1
CLASS:PUBLIC
END:VEVENT
END:VCALENDAR
