BEGIN:VCALENDAR
PRODID:-//kirchenweb.ch gmbh//veranstaltungsausgabe v2.0//DE
VERSION:2.0
METHOD:PUBLISH
BEGIN:VEVENT
DTSTART:20240831T110000Z
DTEND:20240831T150000Z
LOCATION:Gächlingen-Löhningen-Oberhallau\, Im Chloster 1\, 8214
  Gächlingen
TRANSP:OPAQUE
SEQUENCE:0
UID:171120-veranstaltung@ref-sh.ch
DTSTAMP:20240828T133347Z
DESCRIPTION:Auch diesen Samstag ist wieder Ameisli!\nWir verbringen einen
  lässigen Nachmittag auf dem Festplatz in Neunkirch.\nAlso komm zum
  Treffpunkt\, zieh gute Schuhe und dem Wetter angepasste Kleidung an und
  lass dich überraschen.\n\nFalls jemand keine Möglichkeit hat\,
  selbtändig zum Festlatz zu kommen\, melde dich einfach\, dann finden wir
  bestimmt eine Lösung.\n\nStart:\n13.30 Festplatz Neunkirch
  https://www.google.de/maps/place/Festplatz/@47.6790678\,8.4882457\,15z/da
 ta=!3m1!4b1!4m6!3m5!1s0x47907b859f6c051b:0xdba266a3959a9ab8!8m2!3d47.67905
 44!4d8.4985454!16s%2Fg%2F1thhjf7c?entry=ttu&g_ep=EgoyMDI0MDgyMy4wIKXMDSoAS
 AFQAw%3D%3D\n\n\nEnde:\n17.00 Festplatz Neunkirch\n\nMitnehmen:\n- gute
  Schuhe\n-Trinkflasche\n- dem Wetter entsprechende Kleidung\n-gute Laune\n
 \nKontakt:\nNicole Neukomm\nnicole.neukomm@ref-sh.ch\n\nAnja Ryser\n079
  229 13 85\nanja.ryser@ref-sh.ch\n\nHanna Gfeller\n079 900 56 39
 \nhanna.gfeller@ref-sh.ch\n\nKontakt: \nAnja Ryser\n\nWeitere Infos:
  https://www.ref-sh.ch/veranstaltung/171120
SUMMARY:Ameisli auf dem Festplatz
PRIORITY:5
X-MICROSOFT-CDO-IMPORTANCE:1
CLASS:PUBLIC
END:VEVENT
END:VCALENDAR
