BEGIN:VCALENDAR
PRODID:-//kirchenweb.ch gmbh//veranstaltungsausgabe v2.0//DE
VERSION:2.0
METHOD:PUBLISH
BEGIN:VEVENT
DTSTART:20241130T120500Z
DTEND:20241130T153500Z
LOCATION:Löhningen\, \,
TRANSP:OPAQUE
SEQUENCE:0
UID:171118-veranstaltung@ref-sh.ch
DTSTAMP:20241126T125310Z
DESCRIPTION:Hallo Zusammen\n\nAm Samstag ist wieder Jungschi und Ameisli\,
  dieser Nachmittag wird zusammendurchgeführt. Die Ameisli können wie
  immer auch mit dem Bus kommen. Sie werden von jemandem begleitet.\nAlso
  kommt zum Treffpunkt und bringt Freude mit.\n\nTreffpunkt:\n13.30
  Pfarrhaus Gächlingen\n13.00 Bushaltestelle Löhningen\n\nEnde:\n17:00
  Pfarrhaus Gächlingen\n17.20 Bushaltestelle Löhningen\n\nMitnehmen:
 \nKleider dem Wetter entsprechend (Wir sind dennoch eine Weile draussen)
 \nRucksack mit:\n- Trinkflasche\n- Gute Laune\n\nKontakt: Hanna
  Gfeller-Niklaus\n\n\nWeitere Infos:
  https://www.ref-sh.ch/veranstaltung/171118
SUMMARY:Ameisli in Löhningen
PRIORITY:5
X-MICROSOFT-CDO-IMPORTANCE:1
CLASS:PUBLIC
END:VEVENT
END:VCALENDAR
