BEGIN:VCALENDAR
PRODID:-//kirchenweb.ch gmbh//veranstaltungsausgabe v2.0//DE
VERSION:2.0
METHOD:PUBLISH
BEGIN:VEVENT
DTSTART:20240921T110500Z
DTEND:20240921T143500Z
LOCATION:Löhningen\, \,
TRANSP:OPAQUE
SEQUENCE:0
UID:171117-veranstaltung@ref-sh.ch
DTSTAMP:20240917T194715Z
DESCRIPTION:Am Samstag ist wieder Ameisli!\nDieses Mal verbringen wir
  einen spannenden Nachmittag draussen im Wald. Also zieh dich warm an\,
  nimm gute Laune mit und komm vorbei.\nBitte lies dir die Mitnehmen-Liste
  gut durch ;)\n\nMitnehmen:\n-Sackmesser mit Säge\n-Hut
 \n-Wetterentsprechende Kleidung für Wald\n-gefüllte Trinkflasche\n-Gute
  Laune\n\nStart:\nGächlingen: 13.00 Buhaltestelle Dorf\, Richtung
  Siblingen\nLöhningen: 13.20 Brunnen Bushaltestelle Dorf (ein Leiter
  kommt mit dem Bus von Gächlingen um 13.19 an und nimmt euch mit an den
  Startpunkt)\nOberhallau/Guntmadingen: Nach Absprache\n\nEnde:
 \nGächlingen: 16.48 Bushaltestelle Dorf\, Richtung Neunkirch\nLöhningen:
  16.35 Brunnen Bushaltestelle Dorf\nOberhallau/Guntmadingen: Nach
  Absprache\n\nKontakt: Hanna Gfeller-Niklaus\n\n\nWeitere Infos:
  https://www.ref-sh.ch/veranstaltung/171117
SUMMARY:Ameisli in Löhningen
PRIORITY:5
X-MICROSOFT-CDO-IMPORTANCE:1
CLASS:PUBLIC
END:VEVENT
END:VCALENDAR
