BEGIN:VCALENDAR
PRODID:-//kirchenweb.ch gmbh//veranstaltungsausgabe v2.0//DE
VERSION:2.0
METHOD:PUBLISH
BEGIN:VEVENT
DTSTART:20250620T171500Z
DTEND:20250620T181500Z
LOCATION:Kirche\, Chilchenweg\, 8454 Buchberg-Rüdlingen
TRANSP:OPAQUE
SEQUENCE:0
UID:171096-veranstaltung@ref-sh.ch
DTSTAMP:20250515T090116Z
DESCRIPTION:Buchberg Classix ist eine Initiative von Stefan Tönz\,
  Fabienne und Patrick Leresche. Ziel ist die Erweiterung des kulturellen
  Angebots in der Region durch die Organisation von klassischen Konzerten.
  Neben der künstlerischen Komponente soll auch das soziale Element des
  Konzerterlebnisses nicht zu kurz kommen. \n\nWeitere Infos und Tickets:
  https://www.buchberg-classix.ch\n\nKontakt: barbara.erdmann@ref-sh.ch\n
 \nWeitere Infos: https://www.ref-sh.ch/veranstaltung/171096
SUMMARY:Buchberg Classix
PRIORITY:5
X-MICROSOFT-CDO-IMPORTANCE:1
CLASS:PUBLIC
END:VEVENT
END:VCALENDAR
