BEGIN:VCALENDAR
PRODID:-//kirchenweb.ch gmbh//veranstaltungsausgabe v2.0//DE
VERSION:2.0
METHOD:PUBLISH
BEGIN:VEVENT
DTSTART:20250111T090000Z
DTEND:20250111T110000Z
LOCATION:St.Johann\, Kirchhofplatz\, 8200 Schaffhausen
TRANSP:OPAQUE
SEQUENCE:0
UID:171087-veranstaltung@ref-sh.ch
DTSTAMP:20241228T155431Z
DESCRIPTION:Heute bereiten wir uns auf den Familiengottesdienst vor. Die
  Drittklässler und Viertklässler treffen sich in der Kirche St. Johann.
 \n\nKontakt: Pfarrer Roland Diethelm\n\nWeitere Infos:
  https://www.ref-sh.ch/veranstaltung/171087
SUMMARY:Vorbereitung Familiengottesdienst (Drittklässler und
  Viertklässler)
PRIORITY:5
X-MICROSOFT-CDO-IMPORTANCE:1
CLASS:PUBLIC
END:VEVENT
END:VCALENDAR
