BEGIN:VCALENDAR
PRODID:-//kirchenweb.ch gmbh//veranstaltungsausgabe v2.0//DE
VERSION:2.0
METHOD:PUBLISH
BEGIN:VEVENT
DTSTART:20260904T150000Z
DTEND:20260904T200000Z
LOCATION:St.Johann\, Kirchhofplatz\, 8200 Schaffhausen
TRANSP:OPAQUE
SEQUENCE:0
UID:170902-veranstaltung@ref-sh.ch
DTSTAMP:20260324T154356Z
DESCRIPTION:Unsere Stadtkirchen sind offen - von 17 bis 22 Uhr\n\nDer
  offene St. Johann - Ort der Begegnung\, des Klangs und Gesangs \nBESINNEN
  - BEWEGT SEIN - BEGEGNEN \n\nSie haben die Möglichkeit\n- ein Licht
  anzuzünden und auf der Gebetswand ein Anliegen zu hinterlassen.\n- mit
  jemandem\, der ein offenes Ohr hat\, ins Gespräch zu kommen.\n- sich
  einen Segen auf den Weg geben zu lassen.\n- um 19.00 und 20.00 ins
  Taizé-Lieder-Singen für alle einzustimmen.\n- um 21.30 beim
  "NACH(T)KLANG" den Abend mit Orgelmusik für die Seele ausklingen zu
  lassen.\n\n\nDas offene Münster - Ort der Stille und Besinnung \nSTILLE
  GENIESSEN \n\nSie haben die Möglichkeit\n- im Liegestuhl den Raum und
  die Stille zu geniessen.\n- um 18.00 beim gesungenen Abendlob nach
  Benediktinischer Tradition dabei zu sein.\n\n\nKontakt: Pfarrer Roland
  Diethelm\n\nWeitere Infos: https://www.ref-sh.ch/veranstaltung/170902
SUMMARY:FirstFriday in der Offenen Stadtkirche St. Johann
PRIORITY:5
X-MICROSOFT-CDO-IMPORTANCE:1
CLASS:PUBLIC
END:VEVENT
END:VCALENDAR
